BEGIN:VCALENDAR
VERSION:2.0
PRODID:-//UPF Lund - ECPv6.15.18//NONSGML v1.0//EN
CALSCALE:GREGORIAN
METHOD:PUBLISH
X-ORIGINAL-URL:https://upflund.se
X-WR-CALDESC:Events for UPF Lund
REFRESH-INTERVAL;VALUE=DURATION:PT1H
X-Robots-Tag:noindex
X-PUBLISHED-TTL:PT1H
BEGIN:VTIMEZONE
TZID:Europe/Paris
BEGIN:DAYLIGHT
TZOFFSETFROM:+0100
TZOFFSETTO:+0200
TZNAME:CEST
DTSTART:20240331T010000
END:DAYLIGHT
BEGIN:STANDARD
TZOFFSETFROM:+0200
TZOFFSETTO:+0100
TZNAME:CET
DTSTART:20241027T010000
END:STANDARD
BEGIN:DAYLIGHT
TZOFFSETFROM:+0100
TZOFFSETTO:+0200
TZNAME:CEST
DTSTART:20250330T010000
END:DAYLIGHT
BEGIN:STANDARD
TZOFFSETFROM:+0200
TZOFFSETTO:+0100
TZNAME:CET
DTSTART:20251026T010000
END:STANDARD
BEGIN:DAYLIGHT
TZOFFSETFROM:+0100
TZOFFSETTO:+0200
TZNAME:CEST
DTSTART:20260329T010000
END:DAYLIGHT
BEGIN:STANDARD
TZOFFSETFROM:+0200
TZOFFSETTO:+0100
TZNAME:CET
DTSTART:20261025T010000
END:STANDARD
END:VTIMEZONE
BEGIN:VEVENT
DTSTART;TZID=Europe/Paris:20250901T180000
DTEND;TZID=Europe/Paris:20250901T190000
DTSTAMP:20260426T011512
CREATED:20250823T110418Z
LAST-MODIFIED:20250823T110418Z
UID:18204-1756749600-1756753200@upflund.se
SUMMARY:Conversation with Maria Malmer Stenergard\, Swedish Minister of Foreign Affairs
DESCRIPTION:UPF Lund is proud to welcome the Swedish Minister of Foreign Affairs\, Maria Malmer Stenergard\, to Lund for an interesting and educational conversation.🧡💙 \nThe minister will speak about current world events and Sweden’s role in these. This speech will be followed by a Q&A session\, during which the audience will have the opportunity to ask questions directly to the minister.🌍 \n🔗Open for all; however\, spots are limited. Sign up here. \n🎟️Ticket prices\nMember of UPF Lund: FREE\nUnder 18/Student/Senior citizen: 70 SEK\nAdult: 90 SEK
URL:https://upflund.se/event/conversation-with-maria-malmer-stenergard-swedish-minister-of-foreign-affairs/
LOCATION:Café Athen\, AF-borgen\, Sandgatan 2\, Lund\, 22350\, Sweden
CATEGORIES:Lecture
END:VEVENT
END:VCALENDAR