BEGIN:VCALENDAR
VERSION:2.0
PRODID:-//UPF Lund - ECPv6.15.18//NONSGML v1.0//EN
CALSCALE:GREGORIAN
METHOD:PUBLISH
X-WR-CALNAME:UPF Lund
X-ORIGINAL-URL:https://upflund.se
X-WR-CALDESC:Events for UPF Lund
REFRESH-INTERVAL;VALUE=DURATION:PT1H
X-Robots-Tag:noindex
X-PUBLISHED-TTL:PT1H
BEGIN:VTIMEZONE
TZID:Europe/Paris
BEGIN:DAYLIGHT
TZOFFSETFROM:+0100
TZOFFSETTO:+0200
TZNAME:CEST
DTSTART:20250330T010000
END:DAYLIGHT
BEGIN:STANDARD
TZOFFSETFROM:+0200
TZOFFSETTO:+0100
TZNAME:CET
DTSTART:20251026T010000
END:STANDARD
BEGIN:DAYLIGHT
TZOFFSETFROM:+0100
TZOFFSETTO:+0200
TZNAME:CEST
DTSTART:20260329T010000
END:DAYLIGHT
BEGIN:STANDARD
TZOFFSETFROM:+0200
TZOFFSETTO:+0100
TZNAME:CET
DTSTART:20261025T010000
END:STANDARD
BEGIN:DAYLIGHT
TZOFFSETFROM:+0100
TZOFFSETTO:+0200
TZNAME:CEST
DTSTART:20270328T010000
END:DAYLIGHT
BEGIN:STANDARD
TZOFFSETFROM:+0200
TZOFFSETTO:+0100
TZNAME:CET
DTSTART:20271031T010000
END:STANDARD
END:VTIMEZONE
BEGIN:VEVENT
DTSTART;VALUE=DATE:20260417
DTEND;VALUE=DATE:20260420
DTSTAMP:20260426T040122
CREATED:20260223T082248Z
LAST-MODIFIED:20260223T082248Z
UID:19521-1776384000-1776643199@upflund.se
SUMMARY:Save the Date: Nordic Convention of International Affairs
DESCRIPTION:On the initiative of UFS and in collaboration with FAIA and RSR\, we are happy to announce that the 6th edition of the Nordic Convention of International Affairs will take place this spring! The convention will take place during the weekend of 17-19 April in Malmö\, under the theme “The Role of the Nordic-Baltic Region in a Changing World Order”. \nStay tuned for more information on the program\, registration procedures\, and other important updates. Make sure to follow @nordicconvention2026 on Instagram\, which will be the main channel for information about the event. \nWe look forward to seeing you there!
URL:https://upflund.se/event/save-the-date-nordic-convention-of-international-affairs/
CATEGORIES:UPF Lund
END:VEVENT
BEGIN:VEVENT
DTSTART;TZID=Europe/Paris:20260515T170000
DTEND;TZID=Europe/Paris:20260516T020000
DTSTAMP:20260426T040122
CREATED:20260223T082029Z
LAST-MODIFIED:20260316T092304Z
UID:19519-1778864400-1778896800@upflund.se
SUMMARY:UPF Ball 2026
DESCRIPTION:UPF is inviting you to ‘spend the night in Greece’ on May 15th!\nThis year’s UPF Ball is Greek-themed\, bringing a touch of Greece to Lund for one unforgettable evening. The night will be inspired by Greek elegance\, culture\, and atmosphere. \nYou can purchase tickets for the ball on Orbi.\nDress code: White tie and ball gowns (no Greek togas!). \nAny questions? We’re always happy to help: ballcoordinator@upflund.se.
URL:https://upflund.se/event/save-the-date-upf-ball-2026/
LOCATION:Tegnérs Matsalar\, Sandgatan 2\, Lund\, 223 50
CATEGORIES:Activity,UPF Lund
END:VEVENT
END:VCALENDAR