BEGIN:VCALENDAR
VERSION:2.0
PRODID:-//UPF Lund - ECPv6.15.18//NONSGML v1.0//EN
CALSCALE:GREGORIAN
METHOD:PUBLISH
X-WR-CALNAME:UPF Lund
X-ORIGINAL-URL:https://upflund.se
X-WR-CALDESC:Events for UPF Lund
REFRESH-INTERVAL;VALUE=DURATION:PT1H
X-Robots-Tag:noindex
X-PUBLISHED-TTL:PT1H
BEGIN:VTIMEZONE
TZID:Europe/Paris
BEGIN:DAYLIGHT
TZOFFSETFROM:+0100
TZOFFSETTO:+0200
TZNAME:CEST
DTSTART:20250330T010000
END:DAYLIGHT
BEGIN:STANDARD
TZOFFSETFROM:+0200
TZOFFSETTO:+0100
TZNAME:CET
DTSTART:20251026T010000
END:STANDARD
BEGIN:DAYLIGHT
TZOFFSETFROM:+0100
TZOFFSETTO:+0200
TZNAME:CEST
DTSTART:20260329T010000
END:DAYLIGHT
BEGIN:STANDARD
TZOFFSETFROM:+0200
TZOFFSETTO:+0100
TZNAME:CET
DTSTART:20261025T010000
END:STANDARD
BEGIN:DAYLIGHT
TZOFFSETFROM:+0100
TZOFFSETTO:+0200
TZNAME:CEST
DTSTART:20270328T010000
END:DAYLIGHT
BEGIN:STANDARD
TZOFFSETFROM:+0200
TZOFFSETTO:+0100
TZNAME:CET
DTSTART:20271031T010000
END:STANDARD
END:VTIMEZONE
BEGIN:VEVENT
DTSTART;TZID=Europe/Paris:20260125T190000
DTEND;TZID=Europe/Paris:20260125T210000
DTSTAMP:20260426T025110
CREATED:20260122T092058Z
LAST-MODIFIED:20260122T092058Z
UID:19263-1769367600-1769374800@upflund.se
SUMMARY:Documentary Night
DESCRIPTION:Join UPF for another documentary night on Sunday\, January 25th! \nWe will be watching the documentary “Chokepoints: How small waterways make big powers vulnerable” about maritime chokepoints and their role in driving geopolitical tensions\, followed by a group discussion! Don’t miss this chance to get closer to UPF\, meet new people\, and dive into meaningful conversations. Plus\, fika is provided! \nSpots are limited\, so make sure to sign up fast!\nPlease note that a UPF membership is required!
URL:https://upflund.se/event/documentary-night-3/
LOCATION:UPF Office (4th floor)\, Sandgatan 2\, Lund\, 22350\, Sweden
CATEGORIES:Pod & Radio,Travel,UPF Lund
END:VEVENT
END:VCALENDAR