BEGIN:VCALENDAR
VERSION:2.0
PRODID:-//UPF Lund - ECPv6.15.18//NONSGML v1.0//EN
CALSCALE:GREGORIAN
METHOD:PUBLISH
X-ORIGINAL-URL:https://upflund.se
X-WR-CALDESC:Events for UPF Lund
REFRESH-INTERVAL;VALUE=DURATION:PT1H
X-Robots-Tag:noindex
X-PUBLISHED-TTL:PT1H
BEGIN:VTIMEZONE
TZID:Europe/Paris
BEGIN:DAYLIGHT
TZOFFSETFROM:+0100
TZOFFSETTO:+0200
TZNAME:CEST
DTSTART:20250330T010000
END:DAYLIGHT
BEGIN:STANDARD
TZOFFSETFROM:+0200
TZOFFSETTO:+0100
TZNAME:CET
DTSTART:20251026T010000
END:STANDARD
BEGIN:DAYLIGHT
TZOFFSETFROM:+0100
TZOFFSETTO:+0200
TZNAME:CEST
DTSTART:20260329T010000
END:DAYLIGHT
BEGIN:STANDARD
TZOFFSETFROM:+0200
TZOFFSETTO:+0100
TZNAME:CET
DTSTART:20261025T010000
END:STANDARD
BEGIN:DAYLIGHT
TZOFFSETFROM:+0100
TZOFFSETTO:+0200
TZNAME:CEST
DTSTART:20270328T010000
END:DAYLIGHT
BEGIN:STANDARD
TZOFFSETFROM:+0200
TZOFFSETTO:+0100
TZNAME:CET
DTSTART:20271031T010000
END:STANDARD
END:VTIMEZONE
BEGIN:VEVENT
DTSTART;TZID=Europe/Paris:20260209T153000
DTEND;TZID=Europe/Paris:20260209T173000
DTSTAMP:20260426T003959
CREATED:20260204T112318Z
LAST-MODIFIED:20260204T112318Z
UID:19350-1770651000-1770658200@upflund.se
SUMMARY:The Diplomatic Profession
DESCRIPTION:Please note that the event will be held in Swedish. \nVälkommen till ett spännande och lärorikt samtal om diplomatyrket – då\, nu och i framtiden!\nVad innebär det egentligen att vara diplomat? Hur har yrket utvecklats genom åren\, och vad krävs för att arbeta inom utrikesförvaltningen idag? \nKom och lyssna på Jenny Lennung Malmqvist\, kansliråd på Personalavdelningen vid Utrikesdepartementet\, samt Joe-Philipp Kassem\, Departementssekretare vid enheten för internationellt utvecklingssamarbete som delar med sig av sina erfarenheter och reflektioner kring diplomatyrket. De kommer också att ge en inblick i Diplomatprogrammet\, samt vilka möjligheter det kan erbjuda för framtida diplomater. \nI arbetet som diplomat ingår att representera Sverige utomlands\, främja svenska intressen\, bistå svenska medborgare och analysera utvecklingen i olika länder och regioner. Det är ett ansvarsfullt och dynamiskt yrke som kräver kunskap\, flexibilitet och ett starkt engagemang! \nDetta evenemang är organiserat av vår Career committee\, kontakta dem på career@upflund.se vid frågor! \nDet här är en fantastisk möjlighet för alla som är intresserade av internationella relationer\, diplomati och karriärmöjligheter inom utrikesförvaltningen.\nMissa inte chansen att få en inblick i diplomatyrket! Vi ses där! \nENGLISH:\nJenny and Joe will reflect on the diplomatic profession\, its opportunities and challenges. This is a possibility to\, in an informal setting\, learn more about the Ministry of Foreign Affairs as well as the Diplomatic Programme.
URL:https://upflund.se/event/the-diplomatic-profession/
LOCATION:Gamla Köket 128\, Allhelgona kyrkogata 8\, Lund\, 22362\, Sweden
CATEGORIES:Career,UPF Lund
END:VEVENT
END:VCALENDAR