BEGIN:VCALENDAR
VERSION:2.0
PRODID:-//UPF Lund - ECPv6.15.18//NONSGML v1.0//EN
CALSCALE:GREGORIAN
METHOD:PUBLISH
X-ORIGINAL-URL:https://upflund.se
X-WR-CALDESC:Events for UPF Lund
REFRESH-INTERVAL;VALUE=DURATION:PT1H
X-Robots-Tag:noindex
X-PUBLISHED-TTL:PT1H
BEGIN:VTIMEZONE
TZID:Europe/Paris
BEGIN:DAYLIGHT
TZOFFSETFROM:+0100
TZOFFSETTO:+0200
TZNAME:CEST
DTSTART:20240331T010000
END:DAYLIGHT
BEGIN:STANDARD
TZOFFSETFROM:+0200
TZOFFSETTO:+0100
TZNAME:CET
DTSTART:20241027T010000
END:STANDARD
BEGIN:DAYLIGHT
TZOFFSETFROM:+0100
TZOFFSETTO:+0200
TZNAME:CEST
DTSTART:20250330T010000
END:DAYLIGHT
BEGIN:STANDARD
TZOFFSETFROM:+0200
TZOFFSETTO:+0100
TZNAME:CET
DTSTART:20251026T010000
END:STANDARD
BEGIN:DAYLIGHT
TZOFFSETFROM:+0100
TZOFFSETTO:+0200
TZNAME:CEST
DTSTART:20260329T010000
END:DAYLIGHT
BEGIN:STANDARD
TZOFFSETFROM:+0200
TZOFFSETTO:+0100
TZNAME:CET
DTSTART:20261025T010000
END:STANDARD
END:VTIMEZONE
BEGIN:VEVENT
DTSTART;TZID=Europe/Paris:20251120T183000
DTEND;TZID=Europe/Paris:20251120T202000
DTSTAMP:20260426T030442
CREATED:20251113T080835Z
LAST-MODIFIED:20251113T080835Z
UID:19126-1763663400-1763670000@upflund.se
SUMMARY:Career Fair
DESCRIPTION:Are you aiming for a career within foreign affairs?\nIf so\, don’t miss out on UPF Lund’s Career Fair 2025! \nOn November 20th\, we’ll gather students and organisations working in or around international relations. The goal is simple; to help you explore where a background in global affairs can take you\, and to connect you with people who work in the field. \nWhether you’re just curious about your options or already have a clear path in mind\, this is a great chance to get inspired\, ask questions\, and meet potential future employers!
URL:https://upflund.se/event/career-fair/
LOCATION:Café Athen\, AF-borgen\, Sandgatan 2\, Lund\, 22350\, Sweden
CATEGORIES:Career,UPF Lund
END:VEVENT
END:VCALENDAR