BEGIN:VCALENDAR
VERSION:2.0
PRODID:-//UPF Lund - ECPv6.15.18//NONSGML v1.0//EN
CALSCALE:GREGORIAN
METHOD:PUBLISH
X-ORIGINAL-URL:https://upflund.se
X-WR-CALDESC:Events for UPF Lund
REFRESH-INTERVAL;VALUE=DURATION:PT1H
X-Robots-Tag:noindex
X-PUBLISHED-TTL:PT1H
BEGIN:VTIMEZONE
TZID:Europe/Paris
BEGIN:DAYLIGHT
TZOFFSETFROM:+0100
TZOFFSETTO:+0200
TZNAME:CEST
DTSTART:20250330T010000
END:DAYLIGHT
BEGIN:STANDARD
TZOFFSETFROM:+0200
TZOFFSETTO:+0100
TZNAME:CET
DTSTART:20251026T010000
END:STANDARD
BEGIN:DAYLIGHT
TZOFFSETFROM:+0100
TZOFFSETTO:+0200
TZNAME:CEST
DTSTART:20260329T010000
END:DAYLIGHT
BEGIN:STANDARD
TZOFFSETFROM:+0200
TZOFFSETTO:+0100
TZNAME:CET
DTSTART:20261025T010000
END:STANDARD
BEGIN:DAYLIGHT
TZOFFSETFROM:+0100
TZOFFSETTO:+0200
TZNAME:CEST
DTSTART:20270328T010000
END:DAYLIGHT
BEGIN:STANDARD
TZOFFSETFROM:+0200
TZOFFSETTO:+0100
TZNAME:CET
DTSTART:20271031T010000
END:STANDARD
END:VTIMEZONE
BEGIN:VEVENT
DTSTART;TZID=Europe/Paris:20260416T121500
DTEND;TZID=Europe/Paris:20260416T140000
DTSTAMP:20260425T174539
CREATED:20260407T074630Z
LAST-MODIFIED:20260407T074630Z
UID:19576-1776341700-1776348000@upflund.se
SUMMARY:CV & LinkedIn Workshop
DESCRIPTION:We are pleased to announce our annual CV & LinkedIn Workshop!\nThis year\, we are collaborating with the public affairs bureau New Republic\, who will offer an introduction to the dynamic field of public affairs\, as well as provide individual CV auditing for all participants. \nThe session will be hosted by one of the company’s founders\, Jean-Paul Maurin\, a former UPF alumnus with extensive experience in both the private and public sectors. In addition\, New Republic has kindly sponsored lunch from Grönt & Gott. \nThis workshop is ideal for those who want to strengthen their CV\, gain insight into what employers look for\, or learn more about careers in public affairs\, all while enjoying a complimentary lunch. \nSpots are limited\, so make sure to sign up via Orbi as soon as possible.\nThe event is free for UPF members (a membership is required).
URL:https://upflund.se/event/cv-linkedin-workshop/
LOCATION:Eden 236\, Allhelgona kyrkogata 14\, Lund\, 22362\, Sweden
CATEGORIES:Career
END:VEVENT
END:VCALENDAR