BEGIN:VCALENDAR
VERSION:2.0
PRODID:-//UPF Lund - ECPv6.15.18//NONSGML v1.0//EN
CALSCALE:GREGORIAN
METHOD:PUBLISH
X-WR-CALNAME:UPF Lund
X-ORIGINAL-URL:https://upflund.se
X-WR-CALDESC:Events for UPF Lund
REFRESH-INTERVAL;VALUE=DURATION:PT1H
X-Robots-Tag:noindex
X-PUBLISHED-TTL:PT1H
BEGIN:VTIMEZONE
TZID:Europe/Paris
BEGIN:DAYLIGHT
TZOFFSETFROM:+0100
TZOFFSETTO:+0200
TZNAME:CEST
DTSTART:20250330T010000
END:DAYLIGHT
BEGIN:STANDARD
TZOFFSETFROM:+0200
TZOFFSETTO:+0100
TZNAME:CET
DTSTART:20251026T010000
END:STANDARD
BEGIN:DAYLIGHT
TZOFFSETFROM:+0100
TZOFFSETTO:+0200
TZNAME:CEST
DTSTART:20260329T010000
END:DAYLIGHT
BEGIN:STANDARD
TZOFFSETFROM:+0200
TZOFFSETTO:+0100
TZNAME:CET
DTSTART:20261025T010000
END:STANDARD
BEGIN:DAYLIGHT
TZOFFSETFROM:+0100
TZOFFSETTO:+0200
TZNAME:CEST
DTSTART:20270328T010000
END:DAYLIGHT
BEGIN:STANDARD
TZOFFSETFROM:+0200
TZOFFSETTO:+0100
TZNAME:CET
DTSTART:20271031T010000
END:STANDARD
END:VTIMEZONE
BEGIN:VEVENT
DTSTART;TZID=Europe/Paris:20260326T170000
DTEND;TZID=Europe/Paris:20260326T183000
DTSTAMP:20260425T185719
CREATED:20260316T093051Z
LAST-MODIFIED:20260316T093051Z
UID:19556-1774544400-1774549800@upflund.se
SUMMARY:Presentation & Panel Discussion: Indonesia and South-South Cooperation: Its Role in Shaping a New International Order
DESCRIPTION:UPF × PPI × ACE present a Presentation & Panel Discussion on the topic: Indonesia and South-South Cooperation: Its Role in Shaping a New International Order \nAs global power dynamics shift\, countries of the Global South are playing an increasingly significant role in shaping the future international order. How does Indonesia\, alongside other South-South Cooperation countries\, position itself within this transformation? Join us for a presentation and panel discussion featuring: \n• H.E. Dr. Yayan Ganda Hayat Mulyana\, Indonesian Ambassador to Sweden and Latvia\n• Dr. Tabitha Rosendal\, Lecturer and Research Assistant\, Centre for East and South-East Asian Studies\, Lund University \nThis event will explore Indonesia’s diplomatic strategy within South-South Cooperation\, South-South Cooperation development partnerships\, and its broader role in advancing collaboration among developing nations. A Q&A session will follow the discussion. \nRegister for the event through this form.
URL:https://upflund.se/event/presentation-panel-discussion-indonesia-and-south-south-cooperation-its-role-in-shaping-a-new-international-order/
LOCATION:Gamla Köket 128\, Allhelgona kyrkogata 8\, Lund\, 22362\, Sweden
CATEGORIES:UPF Lund
END:VEVENT
END:VCALENDAR