BEGIN:VCALENDAR
VERSION:2.0
PRODID:-//UPF Lund - ECPv6.15.18//NONSGML v1.0//EN
CALSCALE:GREGORIAN
METHOD:PUBLISH
X-ORIGINAL-URL:https://upflund.se
X-WR-CALDESC:Events for UPF Lund
REFRESH-INTERVAL;VALUE=DURATION:PT1H
X-Robots-Tag:noindex
X-PUBLISHED-TTL:PT1H
BEGIN:VTIMEZONE
TZID:Europe/Paris
BEGIN:DAYLIGHT
TZOFFSETFROM:+0100
TZOFFSETTO:+0200
TZNAME:CEST
DTSTART:20250330T010000
END:DAYLIGHT
BEGIN:STANDARD
TZOFFSETFROM:+0200
TZOFFSETTO:+0100
TZNAME:CET
DTSTART:20251026T010000
END:STANDARD
BEGIN:DAYLIGHT
TZOFFSETFROM:+0100
TZOFFSETTO:+0200
TZNAME:CEST
DTSTART:20260329T010000
END:DAYLIGHT
BEGIN:STANDARD
TZOFFSETFROM:+0200
TZOFFSETTO:+0100
TZNAME:CET
DTSTART:20261025T010000
END:STANDARD
BEGIN:DAYLIGHT
TZOFFSETFROM:+0100
TZOFFSETTO:+0200
TZNAME:CEST
DTSTART:20270328T010000
END:DAYLIGHT
BEGIN:STANDARD
TZOFFSETFROM:+0200
TZOFFSETTO:+0100
TZNAME:CET
DTSTART:20271031T010000
END:STANDARD
END:VTIMEZONE
BEGIN:VEVENT
DTSTART;VALUE=DATE:20260320
DTEND;VALUE=DATE:20260321
DTSTAMP:20260425T185736
CREATED:20260306T090932Z
LAST-MODIFIED:20260306T090932Z
UID:19538-1773964800-1774051199@upflund.se
SUMMARY:Trip to Copenhagen
DESCRIPTION:Are you passionate about Arctic security? Would you like the opportunity to learn from and practice networking with professionals working in the field of foreign affairs? In that case\, you will make a fantastic candidate for the Travel Committee’s next day trip to Copenhagen! We are delighted to announce that the visit will include a visit to the Greenlandic representation in Copenhagen. In addition\, we are hoping to secure another two visits. \nTo apply\, simply fill out the brief application form! You will be notified in the coming days whether your application has been successful.\nThe deadline is on Sunday\, March 8\, 23:59.
URL:https://upflund.se/event/trip-to-copenhagen/
CATEGORIES:Travel,UPF Lund
END:VEVENT
END:VCALENDAR