BEGIN:VCALENDAR
VERSION:2.0
PRODID:-//UPF Lund - ECPv6.15.18//NONSGML v1.0//EN
CALSCALE:GREGORIAN
METHOD:PUBLISH
X-ORIGINAL-URL:https://upflund.se
X-WR-CALDESC:Events for UPF Lund
REFRESH-INTERVAL;VALUE=DURATION:PT1H
X-Robots-Tag:noindex
X-PUBLISHED-TTL:PT1H
BEGIN:VTIMEZONE
TZID:Europe/Paris
BEGIN:DAYLIGHT
TZOFFSETFROM:+0100
TZOFFSETTO:+0200
TZNAME:CEST
DTSTART:20250330T010000
END:DAYLIGHT
BEGIN:STANDARD
TZOFFSETFROM:+0200
TZOFFSETTO:+0100
TZNAME:CET
DTSTART:20251026T010000
END:STANDARD
BEGIN:DAYLIGHT
TZOFFSETFROM:+0100
TZOFFSETTO:+0200
TZNAME:CEST
DTSTART:20260329T010000
END:DAYLIGHT
BEGIN:STANDARD
TZOFFSETFROM:+0200
TZOFFSETTO:+0100
TZNAME:CET
DTSTART:20261025T010000
END:STANDARD
BEGIN:DAYLIGHT
TZOFFSETFROM:+0100
TZOFFSETTO:+0200
TZNAME:CEST
DTSTART:20270328T010000
END:DAYLIGHT
BEGIN:STANDARD
TZOFFSETFROM:+0200
TZOFFSETTO:+0100
TZNAME:CET
DTSTART:20271031T010000
END:STANDARD
END:VTIMEZONE
BEGIN:VEVENT
DTSTART;TZID=Europe/Paris:20260318T183000
DTEND;TZID=Europe/Paris:20260318T203000
DTSTAMP:20260425T185735
CREATED:20260316T092600Z
LAST-MODIFIED:20260316T093133Z
UID:19553-1773858600-1773865800@upflund.se
SUMMARY:Game Night
DESCRIPTION:Free on a Wednesday evening? Come join us and Utrikespolitisk Afton for a fun and relaxed game night in Cafè Athes at 18.30. Hang out\, play games and mingle with our associations! Whether you’re competitive or just in it for the laughs\, there’s something for everyone.\nBring your friends\, meet new people\, and get ready for a night full of laughter\, games\, and good vibes. Everyone is welcome!\nFind out more about the event on Orbi. \nQuestions? Send an email to: activity@upflund.se.
URL:https://upflund.se/event/game-night/
LOCATION:Café Athen\, AF-borgen\, Sandgatan 2\, Lund\, 22350\, Sweden
CATEGORIES:Activity,UPF Lund
END:VEVENT
END:VCALENDAR