BEGIN:VCALENDAR
VERSION:2.0
PRODID:-//UPF Lund - ECPv6.15.18//NONSGML v1.0//EN
CALSCALE:GREGORIAN
METHOD:PUBLISH
X-ORIGINAL-URL:https://upflund.se
X-WR-CALDESC:Events for UPF Lund
REFRESH-INTERVAL;VALUE=DURATION:PT1H
X-Robots-Tag:noindex
X-PUBLISHED-TTL:PT1H
BEGIN:VTIMEZONE
TZID:Europe/Paris
BEGIN:DAYLIGHT
TZOFFSETFROM:+0100
TZOFFSETTO:+0200
TZNAME:CEST
DTSTART:20250330T010000
END:DAYLIGHT
BEGIN:STANDARD
TZOFFSETFROM:+0200
TZOFFSETTO:+0100
TZNAME:CET
DTSTART:20251026T010000
END:STANDARD
BEGIN:DAYLIGHT
TZOFFSETFROM:+0100
TZOFFSETTO:+0200
TZNAME:CEST
DTSTART:20260329T010000
END:DAYLIGHT
BEGIN:STANDARD
TZOFFSETFROM:+0200
TZOFFSETTO:+0100
TZNAME:CET
DTSTART:20261025T010000
END:STANDARD
BEGIN:DAYLIGHT
TZOFFSETFROM:+0100
TZOFFSETTO:+0200
TZNAME:CEST
DTSTART:20270328T010000
END:DAYLIGHT
BEGIN:STANDARD
TZOFFSETFROM:+0200
TZOFFSETTO:+0100
TZNAME:CET
DTSTART:20271031T010000
END:STANDARD
END:VTIMEZONE
BEGIN:VEVENT
DTSTART;TZID=Europe/Paris:20260313T180000
DTEND;TZID=Europe/Paris:20260313T220000
DTSTAMP:20260425T185735
CREATED:20260306T091227Z
LAST-MODIFIED:20260306T091227Z
UID:19540-1773424800-1773439200@upflund.se
SUMMARY:Karaoke Night
DESCRIPTION:Warm up those vocal cords\, because UPF is joining Karaoke night at Hallands Nation!\nGet ready for a night of big vocals\, bold performances\, and lots of laughs! Whether you’re planning to belt out your favorite anthem or cheer on your friends from the crowd\, it’s going to be an evening full of great vibes and even better company. \nSpots are limited\, so make sure to secure yours by signing up and grabbing a ticket through Orbi!
URL:https://upflund.se/event/karaoke-night/
LOCATION:Hallands nation\, Thomanders väg 1\, Lund\, 22465\, Sweden
CATEGORIES:Activity,UPF Lund
END:VEVENT
END:VCALENDAR