BEGIN:VCALENDAR
VERSION:2.0
PRODID:-//UPF Lund - ECPv6.15.18//NONSGML v1.0//EN
CALSCALE:GREGORIAN
METHOD:PUBLISH
X-WR-CALNAME:UPF Lund
X-ORIGINAL-URL:https://upflund.se
X-WR-CALDESC:Events for UPF Lund
REFRESH-INTERVAL;VALUE=DURATION:PT1H
X-Robots-Tag:noindex
X-PUBLISHED-TTL:PT1H
BEGIN:VTIMEZONE
TZID:Europe/Paris
BEGIN:DAYLIGHT
TZOFFSETFROM:+0100
TZOFFSETTO:+0200
TZNAME:CEST
DTSTART:20250330T010000
END:DAYLIGHT
BEGIN:STANDARD
TZOFFSETFROM:+0200
TZOFFSETTO:+0100
TZNAME:CET
DTSTART:20251026T010000
END:STANDARD
BEGIN:DAYLIGHT
TZOFFSETFROM:+0100
TZOFFSETTO:+0200
TZNAME:CEST
DTSTART:20260329T010000
END:DAYLIGHT
BEGIN:STANDARD
TZOFFSETFROM:+0200
TZOFFSETTO:+0100
TZNAME:CET
DTSTART:20261025T010000
END:STANDARD
BEGIN:DAYLIGHT
TZOFFSETFROM:+0100
TZOFFSETTO:+0200
TZNAME:CEST
DTSTART:20270328T010000
END:DAYLIGHT
BEGIN:STANDARD
TZOFFSETFROM:+0200
TZOFFSETTO:+0100
TZNAME:CET
DTSTART:20271031T010000
END:STANDARD
END:VTIMEZONE
BEGIN:VEVENT
DTSTART;TZID=Europe/Paris:20260219T173000
DTEND;TZID=Europe/Paris:20260219T190000
DTSTAMP:20260425T201216
CREATED:20260212T195751Z
LAST-MODIFIED:20260212T195751Z
UID:19491-1771522200-1771527600@upflund.se
SUMMARY:Lecture: Hub AI x UPF
DESCRIPTION:How is artificial intelligence transforming government and public administration? What happens when AI becomes part of state decision-making\, public service delivery\, and bureaucratic processes? And what are the ethical\, democratic\, and accountability implications of automating (or even replacing) civil servants? \nHub AI Lund and UPF Lund invite you to a joint lecture and panel discussion exploring the growing role of AI in governance. Together\, we will unpack how AI is being integrated into state institutions\, the opportunities it creates\, and the risks it poses for transparency\, responsibility\, and public trust. Whether you’re interested in politics\, technology\, ethics\, or the future of work — this is a conversation you don’t want to miss. \nTicket information:\nFree for members of both Hub AI and UPF\n30 SEK for members of one association only\n70 SEK for non-members
URL:https://upflund.se/event/lecture-hub-ai-x-upf/
LOCATION:Gamla Köket 128\, Allhelgona kyrkogata 8\, Lund\, 22362\, Sweden
CATEGORIES:Lecture,UPF Lund
END:VEVENT
END:VCALENDAR