BEGIN:VCALENDAR
VERSION:2.0
PRODID:-//UPF Lund - ECPv6.15.18//NONSGML v1.0//EN
CALSCALE:GREGORIAN
METHOD:PUBLISH
X-WR-CALNAME:UPF Lund
X-ORIGINAL-URL:https://upflund.se
X-WR-CALDESC:Events for UPF Lund
REFRESH-INTERVAL;VALUE=DURATION:PT1H
X-Robots-Tag:noindex
X-PUBLISHED-TTL:PT1H
BEGIN:VTIMEZONE
TZID:Europe/Paris
BEGIN:DAYLIGHT
TZOFFSETFROM:+0100
TZOFFSETTO:+0200
TZNAME:CEST
DTSTART:20250330T010000
END:DAYLIGHT
BEGIN:STANDARD
TZOFFSETFROM:+0200
TZOFFSETTO:+0100
TZNAME:CET
DTSTART:20251026T010000
END:STANDARD
BEGIN:DAYLIGHT
TZOFFSETFROM:+0100
TZOFFSETTO:+0200
TZNAME:CEST
DTSTART:20260329T010000
END:DAYLIGHT
BEGIN:STANDARD
TZOFFSETFROM:+0200
TZOFFSETTO:+0100
TZNAME:CET
DTSTART:20261025T010000
END:STANDARD
BEGIN:DAYLIGHT
TZOFFSETFROM:+0100
TZOFFSETTO:+0200
TZNAME:CEST
DTSTART:20270328T010000
END:DAYLIGHT
BEGIN:STANDARD
TZOFFSETFROM:+0200
TZOFFSETTO:+0100
TZNAME:CET
DTSTART:20271031T010000
END:STANDARD
END:VTIMEZONE
BEGIN:VEVENT
DTSTART;TZID=Europe/Paris:20260121T110000
DTEND;TZID=Europe/Paris:20260121T140000
DTSTAMP:20260425T214605
CREATED:20260115T160951Z
LAST-MODIFIED:20260115T161035Z
UID:19248-1768993200-1769004000@upflund.se
SUMMARY:Coffee Stand
DESCRIPTION:Stop by UPF Lund’s Coffee Stand and get to know us a little better! \nWhether you’re curious about global affairs\, interested in joining UPF\, or just want a cup of coffee and a friendly chat\, you’re more than welcome!\nMeet our members\, ask questions\, and learn more about what we do in the organization.\nCome say hi\, grab a cup\, and hang out with us!
URL:https://upflund.se/event/coffee-stand/
LOCATION:Eden\, Allhelgona Kyrkogata 14\, Lund\, 223 62\, Sweden
CATEGORIES:UPF Lund
END:VEVENT
END:VCALENDAR