BEGIN:VCALENDAR
VERSION:2.0
PRODID:-//UPF Lund - ECPv6.15.18//NONSGML v1.0//EN
CALSCALE:GREGORIAN
METHOD:PUBLISH
X-WR-CALNAME:UPF Lund
X-ORIGINAL-URL:https://upflund.se
X-WR-CALDESC:Events for UPF Lund
REFRESH-INTERVAL;VALUE=DURATION:PT1H
X-Robots-Tag:noindex
X-PUBLISHED-TTL:PT1H
BEGIN:VTIMEZONE
TZID:Europe/Paris
BEGIN:DAYLIGHT
TZOFFSETFROM:+0100
TZOFFSETTO:+0200
TZNAME:CEST
DTSTART:20250330T010000
END:DAYLIGHT
BEGIN:STANDARD
TZOFFSETFROM:+0200
TZOFFSETTO:+0100
TZNAME:CET
DTSTART:20251026T010000
END:STANDARD
BEGIN:DAYLIGHT
TZOFFSETFROM:+0100
TZOFFSETTO:+0200
TZNAME:CEST
DTSTART:20260329T010000
END:DAYLIGHT
BEGIN:STANDARD
TZOFFSETFROM:+0200
TZOFFSETTO:+0100
TZNAME:CET
DTSTART:20261025T010000
END:STANDARD
BEGIN:DAYLIGHT
TZOFFSETFROM:+0100
TZOFFSETTO:+0200
TZNAME:CEST
DTSTART:20270328T010000
END:DAYLIGHT
BEGIN:STANDARD
TZOFFSETFROM:+0200
TZOFFSETTO:+0100
TZNAME:CET
DTSTART:20271031T010000
END:STANDARD
END:VTIMEZONE
BEGIN:VEVENT
DTSTART;TZID=Europe/Paris:20260118T183000
DTEND;TZID=Europe/Paris:20260118T203000
DTSTAMP:20260425T212911
CREATED:20260113T132406Z
LAST-MODIFIED:20260113T132406Z
UID:19227-1768761000-1768768200@upflund.se
SUMMARY:Orientation Week: Documentary Night
DESCRIPTION:Join UPF for a documentary night!\nWe will watch an investigative documentary on IKEA’s forestry practices in the Romanian Carpathian mountains\, home to some of Europe’s last old-growth forests. As one of the largest private forest owners in Romania\, IKEA’s operations raise important questions regarding sustainability\, corporate responsibility\, and the risks of entanglement with local corruption. \nFollowing the documentary there will be a group discussion (and fika is provided!) Don’t miss out on this chance to get close to UPF\, make new friends\, and dive into important and meaningful topics! \nThere is a limited amount of spots so sign up here as soon as possible!\nSee you there! ☺
URL:https://upflund.se/event/orientation-week-documentary-night/
LOCATION:UPF Office (4th floor)\, Sandgatan 2\, Lund\, 22350\, Sweden
CATEGORIES:UPF Lund
END:VEVENT
END:VCALENDAR