BEGIN:VCALENDAR
VERSION:2.0
PRODID:-//UPF Lund - ECPv6.15.18//NONSGML v1.0//EN
CALSCALE:GREGORIAN
METHOD:PUBLISH
X-ORIGINAL-URL:https://upflund.se
X-WR-CALDESC:Events for UPF Lund
REFRESH-INTERVAL;VALUE=DURATION:PT1H
X-Robots-Tag:noindex
X-PUBLISHED-TTL:PT1H
BEGIN:VTIMEZONE
TZID:Europe/Paris
BEGIN:DAYLIGHT
TZOFFSETFROM:+0100
TZOFFSETTO:+0200
TZNAME:CEST
DTSTART:20240331T010000
END:DAYLIGHT
BEGIN:STANDARD
TZOFFSETFROM:+0200
TZOFFSETTO:+0100
TZNAME:CET
DTSTART:20241027T010000
END:STANDARD
BEGIN:DAYLIGHT
TZOFFSETFROM:+0100
TZOFFSETTO:+0200
TZNAME:CEST
DTSTART:20250330T010000
END:DAYLIGHT
BEGIN:STANDARD
TZOFFSETFROM:+0200
TZOFFSETTO:+0100
TZNAME:CET
DTSTART:20251026T010000
END:STANDARD
BEGIN:DAYLIGHT
TZOFFSETFROM:+0100
TZOFFSETTO:+0200
TZNAME:CEST
DTSTART:20260329T010000
END:DAYLIGHT
BEGIN:STANDARD
TZOFFSETFROM:+0200
TZOFFSETTO:+0100
TZNAME:CET
DTSTART:20261025T010000
END:STANDARD
END:VTIMEZONE
BEGIN:VEVENT
DTSTART;TZID=Europe/Paris:20251212T090000
DTEND;TZID=Europe/Paris:20251212T170000
DTSTAMP:20260425T224415
CREATED:20251121T122838Z
LAST-MODIFIED:20251121T123235Z
UID:19135-1765530000-1765558800@upflund.se
SUMMARY:Copenhagen Trip
DESCRIPTION:UPF Lund is heading to Copenhagen!\nThe travel committee is excited to announce our second trip to the Danish capital\, which is home to plenty of international organizations and has a rich cultural history. It will be a day trip that allows you to explore the city with us! \nIf you are interested\, feel free to apply! \nHav det godt!
URL:https://upflund.se/event/19135/
CATEGORIES:Travel,UPF Lund
END:VEVENT
BEGIN:VEVENT
DTSTART;TZID=Europe/Paris:20251212T183000
DTEND;TZID=Europe/Paris:20251213T020000
DTSTAMP:20260425T224415
CREATED:20251121T122305Z
LAST-MODIFIED:20251121T122305Z
UID:19130-1765564200-1765591200@upflund.se
SUMMARY:Winter Wonderland Sittning
DESCRIPTION:Step into a Winter Wonderland with UPF!\nJoin us for a magical evening on December 12th at Sydskånska Nation\, transformed into a snowy winter wonderland for the night. Expect the best company\, a delicious three-course meal and lots of laughter. We’ll cap off the night with an amazing afterparty at Hallands. \nDress to impress in your best formal attire—whether it’s elegant dresses or smart suitpants\, we want to see your winter style shine.\nGet ready for an unforgettable evening of laughter\, warmth\, and celebration amidst the snowy ambiance. Spaces are limited\, so make sure to sign up soon before all the spots are gone! \nClick here to sign up!\nThe last day to sign up is Sunday\, November 30.
URL:https://upflund.se/event/winter-wonderland-sittning-2/
LOCATION:Sydskånska Nation\, Tornavägen 5\, Lund\, 223 63\, Sweden
CATEGORIES:Activity,UPF Lund
END:VEVENT
END:VCALENDAR