BEGIN:VCALENDAR
VERSION:2.0
PRODID:-//UPF Lund - ECPv6.15.18//NONSGML v1.0//EN
CALSCALE:GREGORIAN
METHOD:PUBLISH
X-WR-CALNAME:UPF Lund
X-ORIGINAL-URL:https://upflund.se
X-WR-CALDESC:Events for UPF Lund
REFRESH-INTERVAL;VALUE=DURATION:PT1H
X-Robots-Tag:noindex
X-PUBLISHED-TTL:PT1H
BEGIN:VTIMEZONE
TZID:Europe/Paris
BEGIN:DAYLIGHT
TZOFFSETFROM:+0100
TZOFFSETTO:+0200
TZNAME:CEST
DTSTART:20240331T010000
END:DAYLIGHT
BEGIN:STANDARD
TZOFFSETFROM:+0200
TZOFFSETTO:+0100
TZNAME:CET
DTSTART:20241027T010000
END:STANDARD
BEGIN:DAYLIGHT
TZOFFSETFROM:+0100
TZOFFSETTO:+0200
TZNAME:CEST
DTSTART:20250330T010000
END:DAYLIGHT
BEGIN:STANDARD
TZOFFSETFROM:+0200
TZOFFSETTO:+0100
TZNAME:CET
DTSTART:20251026T010000
END:STANDARD
BEGIN:DAYLIGHT
TZOFFSETFROM:+0100
TZOFFSETTO:+0200
TZNAME:CEST
DTSTART:20260329T010000
END:DAYLIGHT
BEGIN:STANDARD
TZOFFSETFROM:+0200
TZOFFSETTO:+0100
TZNAME:CET
DTSTART:20261025T010000
END:STANDARD
END:VTIMEZONE
BEGIN:VEVENT
DTSTART;TZID=Europe/Paris:20251211T180000
DTEND;TZID=Europe/Paris:20251211T193000
DTSTAMP:20260425T224336
CREATED:20251207T191857Z
LAST-MODIFIED:20251207T192053Z
UID:19158-1765476000-1765481400@upflund.se
SUMMARY:Lecture: The Taliban regime's effects on Afghanistan's development and how to deal with it
DESCRIPTION:What’s really happening in Afghanistan\, and what does the future of education & peace look like? \nJoin us for an eye-opening evening with two incredible speakers bringing both on-the-ground insight and decades of research.\nMaryam Safi from RWI and Dr. Johan Schaar from the Svenska Afghanistankommittén/Solidarity Committee for Afghanistan and Senior Researcher at SIPRI will delve into the effects of the Taliban regime in Afghanistan’s development and how to address them. \nDon’t miss the chance to learn\, question\, and connect. See you there!
URL:https://upflund.se/event/lecture-the-taliban-regimes-effects-on-afghanistans-development-and-how-to-deal-with-it/
LOCATION:Pufendorfsalen\, Juridicum\, Lilla Gråbrödersgatan 4\, Lund\, 22222\, Sweden
CATEGORIES:Lecture,UPF Lund
END:VEVENT
END:VCALENDAR