BEGIN:VCALENDAR
VERSION:2.0
PRODID:-//UPF Lund - ECPv6.15.18//NONSGML v1.0//EN
CALSCALE:GREGORIAN
METHOD:PUBLISH
X-WR-CALNAME:UPF Lund
X-ORIGINAL-URL:https://upflund.se
X-WR-CALDESC:Events for UPF Lund
REFRESH-INTERVAL;VALUE=DURATION:PT1H
X-Robots-Tag:noindex
X-PUBLISHED-TTL:PT1H
BEGIN:VTIMEZONE
TZID:Europe/Paris
BEGIN:DAYLIGHT
TZOFFSETFROM:+0100
TZOFFSETTO:+0200
TZNAME:CEST
DTSTART:20240331T010000
END:DAYLIGHT
BEGIN:STANDARD
TZOFFSETFROM:+0200
TZOFFSETTO:+0100
TZNAME:CET
DTSTART:20241027T010000
END:STANDARD
BEGIN:DAYLIGHT
TZOFFSETFROM:+0100
TZOFFSETTO:+0200
TZNAME:CEST
DTSTART:20250330T010000
END:DAYLIGHT
BEGIN:STANDARD
TZOFFSETFROM:+0200
TZOFFSETTO:+0100
TZNAME:CET
DTSTART:20251026T010000
END:STANDARD
BEGIN:DAYLIGHT
TZOFFSETFROM:+0100
TZOFFSETTO:+0200
TZNAME:CEST
DTSTART:20260329T010000
END:DAYLIGHT
BEGIN:STANDARD
TZOFFSETFROM:+0200
TZOFFSETTO:+0100
TZNAME:CET
DTSTART:20261025T010000
END:STANDARD
END:VTIMEZONE
BEGIN:VEVENT
DTSTART;TZID=Europe/Paris:20251204T190000
DTEND;TZID=Europe/Paris:20251204T220000
DTSTAMP:20260425T224301
CREATED:20251129T101529Z
LAST-MODIFIED:20251129T101529Z
UID:19153-1764874800-1764885600@upflund.se
SUMMARY:Winter Market
DESCRIPTION:Winter is coming to Lund\, and so is the festive cheer!\nJoin us at Paradis’ Winter Market\, a cozy evening with different associations\, sweet treats\, a lottery\, and winter vibes you won’t want to miss. Let’s make it a night to remember\, see you there!
URL:https://upflund.se/event/winter-market/
LOCATION:Café Athen\, AF-borgen\, Sandgatan 2\, Lund\, 22350\, Sweden
CATEGORIES:UPF Lund
END:VEVENT
END:VCALENDAR