BEGIN:VCALENDAR
VERSION:2.0
PRODID:-//UPF Lund - ECPv6.15.18//NONSGML v1.0//EN
CALSCALE:GREGORIAN
METHOD:PUBLISH
X-ORIGINAL-URL:https://upflund.se
X-WR-CALDESC:Events for UPF Lund
REFRESH-INTERVAL;VALUE=DURATION:PT1H
X-Robots-Tag:noindex
X-PUBLISHED-TTL:PT1H
BEGIN:VTIMEZONE
TZID:Europe/Paris
BEGIN:DAYLIGHT
TZOFFSETFROM:+0100
TZOFFSETTO:+0200
TZNAME:CEST
DTSTART:20240331T010000
END:DAYLIGHT
BEGIN:STANDARD
TZOFFSETFROM:+0200
TZOFFSETTO:+0100
TZNAME:CET
DTSTART:20241027T010000
END:STANDARD
BEGIN:DAYLIGHT
TZOFFSETFROM:+0100
TZOFFSETTO:+0200
TZNAME:CEST
DTSTART:20250330T010000
END:DAYLIGHT
BEGIN:STANDARD
TZOFFSETFROM:+0200
TZOFFSETTO:+0100
TZNAME:CET
DTSTART:20251026T010000
END:STANDARD
BEGIN:DAYLIGHT
TZOFFSETFROM:+0100
TZOFFSETTO:+0200
TZNAME:CEST
DTSTART:20260329T010000
END:DAYLIGHT
BEGIN:STANDARD
TZOFFSETFROM:+0200
TZOFFSETTO:+0100
TZNAME:CET
DTSTART:20261025T010000
END:STANDARD
END:VTIMEZONE
BEGIN:VEVENT
DTSTART;TZID=Europe/Paris:20251202T163000
DTEND;TZID=Europe/Paris:20251202T180000
DTSTAMP:20260425T224416
CREATED:20251129T101344Z
LAST-MODIFIED:20251129T101344Z
UID:19151-1764693000-1764698400@upflund.se
SUMMARY:The Current International Landscape – Lecture & QnA
DESCRIPTION:We are pleased to welcome internationally renowned foreign affairs journalist Jonathan Power for a Career-Talk on the challenges facing contemporary journalism\, followed by a moderated discussion on his career and perspectives on the field. \nJonathan Power has built a distinguished career in international reporting and has been published in leading newspapers such as The New York Times\, The Los Angeles Times\, and The Washington Post. He is also the author of several books and has produced documentaries for BBC\, World in Action\, and This Week. As the European journalist with the highest number of articles published in the United States\, he has interviewed prominent political leaders and historical figures including Martin Luther King\, Jimmy Carter\, and Olof Palme. \nIf you want insight into what it means to work at the highest level of foreign affairs journalism\, and how to reach it\, this is an event you would not want to miss!
URL:https://upflund.se/event/the-current-international-landscape-lecture-qna/
LOCATION:Gamla Köket 128\, Allhelgona kyrkogata 8\, Lund\, 22362\, Sweden
CATEGORIES:UPF Lund
END:VEVENT
BEGIN:VEVENT
DTSTART;TZID=Europe/Paris:20251202T180000
DTEND;TZID=Europe/Paris:20251202T200000
DTSTAMP:20260425T224416
CREATED:20251121T123210Z
LAST-MODIFIED:20251121T123210Z
UID:19138-1764698400-1764705600@upflund.se
SUMMARY:Gingerbread Cookie and House Decorating
DESCRIPTION:Take a break from the cold and join us for a fun and cozy evening at Café Athen!\nEnjoy a cup (or two!) of warm glögg\, decorate gingerbread cookies and gingerbread houses\, and get into the winter spirit together with friends\, both old and new. This is the perfect opportunity to have fun\, meet new people\, hang out with friends\, and learn more about UPF in a relaxed\, festive and welcoming atmosphere. So bring your winter cheer and come spend a cozy evening filled with laughter\, creativity\, and the smell of gingerbread! \nClick here to sign up!\nThe last day to sign up is Friday\, November 28.
URL:https://upflund.se/event/gingerbread-cookie-and-house-decorating/
LOCATION:Café Athen\, AF-borgen\, Sandgatan 2\, Lund\, 22350\, Sweden
CATEGORIES:Activity,UPF Lund
END:VEVENT
END:VCALENDAR