BEGIN:VCALENDAR
VERSION:2.0
PRODID:-//UPF Lund - ECPv6.15.18//NONSGML v1.0//EN
CALSCALE:GREGORIAN
METHOD:PUBLISH
X-WR-CALNAME:UPF Lund
X-ORIGINAL-URL:https://upflund.se
X-WR-CALDESC:Events for UPF Lund
REFRESH-INTERVAL;VALUE=DURATION:PT1H
X-Robots-Tag:noindex
X-PUBLISHED-TTL:PT1H
BEGIN:VTIMEZONE
TZID:Europe/Paris
BEGIN:DAYLIGHT
TZOFFSETFROM:+0100
TZOFFSETTO:+0200
TZNAME:CEST
DTSTART:20240331T010000
END:DAYLIGHT
BEGIN:STANDARD
TZOFFSETFROM:+0200
TZOFFSETTO:+0100
TZNAME:CET
DTSTART:20241027T010000
END:STANDARD
BEGIN:DAYLIGHT
TZOFFSETFROM:+0100
TZOFFSETTO:+0200
TZNAME:CEST
DTSTART:20250330T010000
END:DAYLIGHT
BEGIN:STANDARD
TZOFFSETFROM:+0200
TZOFFSETTO:+0100
TZNAME:CET
DTSTART:20251026T010000
END:STANDARD
BEGIN:DAYLIGHT
TZOFFSETFROM:+0100
TZOFFSETTO:+0200
TZNAME:CEST
DTSTART:20260329T010000
END:DAYLIGHT
BEGIN:STANDARD
TZOFFSETFROM:+0200
TZOFFSETTO:+0100
TZNAME:CET
DTSTART:20261025T010000
END:STANDARD
END:VTIMEZONE
BEGIN:VEVENT
DTSTART;TZID=Europe/Paris:20251123T160000
DTEND;TZID=Europe/Paris:20251123T180000
DTSTAMP:20260426T000156
CREATED:20251121T122529Z
LAST-MODIFIED:20251121T122529Z
UID:19133-1763913600-1763920800@upflund.se
SUMMARY:Movie Night: "Thank You For Smoking"
DESCRIPTION:Join the UPF Debate Committee this Sunday at 4 PM as we screen the sharp\, witty Thank You for Smoking. \nWe’ll watch\, laugh\, and then dive into a lively discussion about persuasion\, media\, and politics.\nBring your friends – and your opinions!
URL:https://upflund.se/event/movie-night-thank-you-for-smoking/
LOCATION:UPF Office (4th floor)\, Sandgatan 2\, Lund\, 22350\, Sweden
CATEGORIES:Debate,UPF Lund
END:VEVENT
END:VCALENDAR