BEGIN:VCALENDAR
VERSION:2.0
PRODID:-//UPF Lund - ECPv6.15.18//NONSGML v1.0//EN
CALSCALE:GREGORIAN
METHOD:PUBLISH
X-ORIGINAL-URL:https://upflund.se
X-WR-CALDESC:Events for UPF Lund
REFRESH-INTERVAL;VALUE=DURATION:PT1H
X-Robots-Tag:noindex
X-PUBLISHED-TTL:PT1H
BEGIN:VTIMEZONE
TZID:Europe/Paris
BEGIN:DAYLIGHT
TZOFFSETFROM:+0100
TZOFFSETTO:+0200
TZNAME:CEST
DTSTART:20240331T010000
END:DAYLIGHT
BEGIN:STANDARD
TZOFFSETFROM:+0200
TZOFFSETTO:+0100
TZNAME:CET
DTSTART:20241027T010000
END:STANDARD
BEGIN:DAYLIGHT
TZOFFSETFROM:+0100
TZOFFSETTO:+0200
TZNAME:CEST
DTSTART:20250330T010000
END:DAYLIGHT
BEGIN:STANDARD
TZOFFSETFROM:+0200
TZOFFSETTO:+0100
TZNAME:CET
DTSTART:20251026T010000
END:STANDARD
BEGIN:DAYLIGHT
TZOFFSETFROM:+0100
TZOFFSETTO:+0200
TZNAME:CEST
DTSTART:20260329T010000
END:DAYLIGHT
BEGIN:STANDARD
TZOFFSETFROM:+0200
TZOFFSETTO:+0100
TZNAME:CET
DTSTART:20261025T010000
END:STANDARD
END:VTIMEZONE
BEGIN:VEVENT
DTSTART;TZID=Europe/Paris:20251023T183000
DTEND;TZID=Europe/Paris:20251023T203000
DTSTAMP:20260426T011444
CREATED:20251006T114920Z
LAST-MODIFIED:20251013T074721Z
UID:18962-1761244200-1761251400@upflund.se
SUMMARY:Get Active with UPF!
DESCRIPTION:Join us on Thursday\, October 23\, for Get Active with UPF Lund! \nThis is your chance to meet UPF board members and committee heads\, ask your questions\, and learn how YOU can be part of Lund’s oldest student association. Whether you’re curious about joining or just want to explore what we do\, this is the perfect event to get involved. Don’t miss it!
URL:https://upflund.se/event/get-active/
LOCATION:Café Athen\, AF-borgen\, Sandgatan 2\, Lund\, 22350\, Sweden
CATEGORIES:UPF Lund
END:VEVENT
END:VCALENDAR