BEGIN:VCALENDAR
VERSION:2.0
PRODID:-//UPF Lund - ECPv6.15.18//NONSGML v1.0//EN
CALSCALE:GREGORIAN
METHOD:PUBLISH
X-WR-CALNAME:UPF Lund
X-ORIGINAL-URL:https://upflund.se
X-WR-CALDESC:Events for UPF Lund
REFRESH-INTERVAL;VALUE=DURATION:PT1H
X-Robots-Tag:noindex
X-PUBLISHED-TTL:PT1H
BEGIN:VTIMEZONE
TZID:Europe/Paris
BEGIN:DAYLIGHT
TZOFFSETFROM:+0100
TZOFFSETTO:+0200
TZNAME:CEST
DTSTART:20240331T010000
END:DAYLIGHT
BEGIN:STANDARD
TZOFFSETFROM:+0200
TZOFFSETTO:+0100
TZNAME:CET
DTSTART:20241027T010000
END:STANDARD
BEGIN:DAYLIGHT
TZOFFSETFROM:+0100
TZOFFSETTO:+0200
TZNAME:CEST
DTSTART:20250330T010000
END:DAYLIGHT
BEGIN:STANDARD
TZOFFSETFROM:+0200
TZOFFSETTO:+0100
TZNAME:CET
DTSTART:20251026T010000
END:STANDARD
BEGIN:DAYLIGHT
TZOFFSETFROM:+0100
TZOFFSETTO:+0200
TZNAME:CEST
DTSTART:20260329T010000
END:DAYLIGHT
BEGIN:STANDARD
TZOFFSETFROM:+0200
TZOFFSETTO:+0100
TZNAME:CET
DTSTART:20261025T010000
END:STANDARD
END:VTIMEZONE
BEGIN:VEVENT
DTSTART;TZID=Europe/Paris:20251014T151500
DTEND;TZID=Europe/Paris:20251014T170000
DTSTAMP:20260426T011243
CREATED:20251010T150043Z
LAST-MODIFIED:20251010T150953Z
UID:18977-1760454900-1760461200@upflund.se
SUMMARY:The Relationship Between India and China in Light of Global Conflict
DESCRIPTION:Join us for a though-provoking panel discussion about the relationship between India and China\, in light of global conflict\, with three experts on Asian geopolitics. Together\, they will unpack the complexities of Sino-Indian relations and explore what’s at stake for Asia and the world. \nThe panel consists of Dr. Dattesh D. Parulekar\, assistant professor at Goa University\, India\, specializing in issues of India’s foreign policy and diplomacy; Rahul Karan Reddy\, senior research associate at the Organisation for Research on China and Asia\, working on domestic Chinese politics and trade\, and; Dr. Sriparna Pathak\, professor of China Studies at Jindal Global University\, Haryana\, India. \nThe lecture is a collaboration with the Swedish South Asian Studies Network (SASNET) and the Centre for East and South-East Asian Studies (ACE)\, and is open and free for everyone.
URL:https://upflund.se/event/the-relationship-between-india-and-china-in-ligh-of-global-conflict/
LOCATION:Asia Library\, Sölvegatan 18\, Lund\, 223 62\, Sweden
CATEGORIES:Lecture,UPF Lund
END:VEVENT
END:VCALENDAR